BEGIN:VCALENDAR
VERSION:2.0
PRODID:-//hiwerr.com - ECPv6.1.4//NONSGML v1.0//EN
CALSCALE:GREGORIAN
METHOD:PUBLISH
X-ORIGINAL-URL:https://hiwerr.com
X-WR-CALDESC:évènements pour hiwerr.com
REFRESH-INTERVAL;VALUE=DURATION:PT1H
X-Robots-Tag:noindex
X-PUBLISHED-TTL:PT1H
BEGIN:VTIMEZONE
TZID:UTC
BEGIN:STANDARD
TZOFFSETFROM:+0000
TZOFFSETTO:+0000
TZNAME:UTC
DTSTART:20230101T000000
END:STANDARD
END:VTIMEZONE
BEGIN:VEVENT
DTSTART;VALUE=DATE:20230101
DTEND;VALUE=DATE:20230102
DTSTAMP:20260421T212636
CREATED:20221227T165455Z
LAST-MODIFIED:20230813T232433Z
UID:77638-1672531200-1672617599@hiwerr.com
SUMMARY:Lancement officiel
DESCRIPTION:Nouvel événement
URL:https://hiwerr.com/event/lancement-officiel/
LOCATION:Sénégal
ATTACH;FMTTYPE=image/jpeg:https://hiwerr.com/wp-content/uploads/2022/12/pexels-kampus-production-5940841.jpg
END:VEVENT
END:VCALENDAR